Package: ddCt Version: 1.60.0 Command: /Library/Frameworks/R.framework/Resources/bin/R CMD check --install=check:ddCt.install-out.txt --library=/Library/Frameworks/R.framework/Resources/library --no-vignettes --timings ddCt_1.60.0.tar.gz StartedAt: 2024-10-17 18:50:49 -0400 (Thu, 17 Oct 2024) EndedAt: 2024-10-17 18:51:39 -0400 (Thu, 17 Oct 2024) EllapsedTime: 49.6 seconds RetCode: 0 Status: WARNINGS CheckDir: ddCt.Rcheck Warnings: 1