Package: ddCt Version: 1.60.0 Command: rm -rf ddCt.buildbin-libdir && mkdir ddCt.buildbin-libdir && /Users/biocbuild/BBS/utils/build-universal.sh ddCt_1.60.0.tar.gz /Library/Frameworks/R.framework/Resources/bin/R ddCt.buildbin-libdir StartedAt: 2024-10-18 18:06:09 -0400 (Fri, 18 Oct 2024) EndedAt: 2024-10-18 18:06:19 -0400 (Fri, 18 Oct 2024) EllapsedTime: 10.2 seconds RetCode: 0 Status: OK PackageFile: ddCt_1.60.0.tgz PackageFileSize: 1.01 MiB