Package: dce Version: 1.12.0 Command: rm -rf dce.buildbin-libdir && mkdir dce.buildbin-libdir && E:\biocbuild\bbs-3.19-bioc\R\bin\R.exe CMD INSTALL --build --library=dce.buildbin-libdir dce_1.12.0.tar.gz StartedAt: 2024-10-17 07:38:52 -0400 (Thu, 17 Oct 2024) EndedAt: 2024-10-17 07:39:39 -0400 (Thu, 17 Oct 2024) EllapsedTime: 47.5 seconds RetCode: 0 Status: OK PackageFile: dce_1.12.0.zip PackageFileSize: 2.183 MiB