Package: dce Version: 1.12.0 Command: /Library/Frameworks/R.framework/Resources/bin/R CMD check --install=check:dce.install-out.txt --library=/Library/Frameworks/R.framework/Resources/library --no-vignettes --timings dce_1.12.0.tar.gz StartedAt: 2024-10-17 03:52:45 -0400 (Thu, 17 Oct 2024) EndedAt: 2024-10-17 04:08:28 -0400 (Thu, 17 Oct 2024) EllapsedTime: 942.8 seconds RetCode: 0 Status: OK CheckDir: dce.Rcheck Warnings: 0