Package: dce Version: 1.12.0 Command: /Library/Frameworks/R.framework/Resources/bin/R CMD check --install=check:dce.install-out.txt --library=/Library/Frameworks/R.framework/Resources/library --no-vignettes --timings dce_1.12.0.tar.gz StartedAt: 2024-06-09 19:50:28 -0400 (Sun, 09 Jun 2024) EndedAt: 2024-06-09 19:56:58 -0400 (Sun, 09 Jun 2024) EllapsedTime: 389.9 seconds RetCode: 0 Status: OK CheckDir: dce.Rcheck Warnings: 0