Package: dce Version: 1.12.0 Command: /Library/Frameworks/R.framework/Resources/bin/R CMD build --keep-empty-dirs --no-resave-data dce StartedAt: 2024-10-16 22:43:16 -0400 (Wed, 16 Oct 2024) EndedAt: 2024-10-16 22:46:15 -0400 (Wed, 16 Oct 2024) EllapsedTime: 179.0 seconds RetCode: 0 Status: OK PackageFile: dce_1.12.0.tar.gz PackageFileSize: 3.086 MiB