Package: dce Version: 1.12.0 Maintainer: Kim Philipp Jablonski MaintainerEmail: kim.philipp.jablonski at gmail.com git_url: https://git.bioconductor.org/packages/dce git_branch: RELEASE_3_19 git_last_commit: 28e0453 git_last_commit_date: 2024-04-30 11:31:41 -0400 (Tue, 30 Apr 2024)