Package: dcanr Version: 1.20.0 Command: rm -rf dcanr.buildbin-libdir && mkdir dcanr.buildbin-libdir && F:\biocbuild\bbs-3.19-bioc\R\bin\R.exe CMD INSTALL --build --library=dcanr.buildbin-libdir dcanr_1.20.0.tar.gz StartedAt: 2024-06-27 08:05:09 -0400 (Thu, 27 Jun 2024) EndedAt: 2024-06-27 08:05:19 -0400 (Thu, 27 Jun 2024) EllapsedTime: 9.8 seconds RetCode: 0 Status: OK PackageFile: dcanr_1.20.0.zip PackageFileSize: 1.366 MiB