Package: dcanr Version: 1.20.0 Command: /home/biocbuild/bbs-3.19-bioc/R/bin/R CMD build --keep-empty-dirs --no-resave-data dcanr StartedAt: 2024-10-16 18:05:08 -0400 (Wed, 16 Oct 2024) EndedAt: 2024-10-16 18:05:55 -0400 (Wed, 16 Oct 2024) EllapsedTime: 47.1 seconds RetCode: 0 Status: OK PackageFile: dcanr_1.20.0.tar.gz PackageFileSize: 1.667 MiB