Package: dcanr
Version: 1.20.0
Command: /Library/Frameworks/R.framework/Resources/bin/R CMD build --keep-empty-dirs --no-resave-data dcanr
StartedAt: 2024-06-09 16:23:51 -0400 (Sun, 09 Jun 2024)
EndedAt: 2024-06-09 16:24:35 -0400 (Sun, 09 Jun 2024)
EllapsedTime: 44.3 seconds
RetCode: 0
Status: OK
PackageFile: dcanr_1.20.0.tar.gz
PackageFileSize: 1.744 <A href="http://en.wikipedia.org/wiki/MiB" target="_blank">MiB</A>