Package: dcGSA Version: 1.32.0 Command: chmod a+r dcGSA -R && E:\biocbuild\bbs-3.19-bioc\R\bin\R.exe CMD build --keep-empty-dirs --no-resave-data dcGSA StartedAt: 2024-10-16 18:32:41 -0400 (Wed, 16 Oct 2024) EndedAt: 2024-10-16 18:32:43 -0400 (Wed, 16 Oct 2024) EllapsedTime: 2.0 seconds RetCode: 0 Status: OK PackageFile: dcGSA_1.32.0.tar.gz PackageFileSize: 37.43 KiB