Package: dcGSA Version: 1.32.0 Command: /Library/Frameworks/R.framework/Resources/bin/R CMD build --keep-empty-dirs --no-resave-data dcGSA StartedAt: 2024-10-16 18:28:11 -0400 (Wed, 16 Oct 2024) EndedAt: 2024-10-16 18:28:15 -0400 (Wed, 16 Oct 2024) EllapsedTime: 3.3 seconds RetCode: 0 Status: OK PackageFile: dcGSA_1.32.0.tar.gz PackageFileSize: 37.43 KiB