Package: dar Version: 1.0.0 Command: chmod a+r dar -R && E:\biocbuild\bbs-3.19-bioc\R\bin\R.exe CMD build --keep-empty-dirs --no-resave-data dar StartedAt: 2024-10-16 18:32:11 -0400 (Wed, 16 Oct 2024) EndedAt: 2024-10-16 18:35:03 -0400 (Wed, 16 Oct 2024) EllapsedTime: 172.4 seconds RetCode: 0 Status: OK PackageFile: dar_1.0.0.tar.gz PackageFileSize: 1.85 MiB