Package: dar Version: 1.0.0 Command: rm -rf dar.buildbin-libdir && mkdir dar.buildbin-libdir && E:\biocbuild\bbs-3.19-bioc\R\bin\R.exe CMD INSTALL --build --library=dar.buildbin-libdir dar_1.0.0.tar.gz StartedAt: 2024-10-17 07:38:38 -0400 (Thu, 17 Oct 2024) EndedAt: 2024-10-17 07:39:45 -0400 (Thu, 17 Oct 2024) EllapsedTime: 67.1 seconds RetCode: 0 Status: OK PackageFile: dar_1.0.0.zip PackageFileSize: 2.222 MiB