Package: dar Version: 1.0.0 Command: /Library/Frameworks/R.framework/Resources/bin/R CMD build --keep-empty-dirs --no-resave-data dar StartedAt: 2024-06-09 16:23:35 -0400 (Sun, 09 Jun 2024) EndedAt: 2024-06-09 16:26:03 -0400 (Sun, 09 Jun 2024) EllapsedTime: 148.1 seconds RetCode: 0 Status: OK PackageFile: dar_1.0.0.tar.gz PackageFileSize: 1.999 MiB