Package: dar Version: 1.0.0 Command: /Library/Frameworks/R.framework/Resources/bin/R CMD check --install=check:dar.install-out.txt --library=/Library/Frameworks/R.framework/Resources/library --no-vignettes --timings dar_1.0.0.tar.gz StartedAt: 2024-06-10 12:54:00 -0400 (Mon, 10 Jun 2024) EndedAt: 2024-06-10 13:14:36 -0400 (Mon, 10 Jun 2024) EllapsedTime: 1236.2 seconds RetCode: 0 Status: OK CheckDir: dar.Rcheck Warnings: 0