Package: dagLogo Version: 1.42.0 Command: rm -rf dagLogo.buildbin-libdir && mkdir dagLogo.buildbin-libdir && E:\biocbuild\bbs-3.19-bioc\R\bin\R.exe CMD INSTALL --build --library=dagLogo.buildbin-libdir dagLogo_1.42.0.tar.gz StartedAt: 2024-10-17 07:38:24 -0400 (Thu, 17 Oct 2024) EndedAt: 2024-10-17 07:39:24 -0400 (Thu, 17 Oct 2024) EllapsedTime: 60.1 seconds RetCode: 0 Status: OK PackageFile: dagLogo_1.42.0.zip PackageFileSize: 2.876 MiB