Package: dagLogo Version: 1.42.0 Command: /Library/Frameworks/R.framework/Resources/bin/R CMD build --keep-empty-dirs --no-resave-data dagLogo StartedAt: 2024-10-16 18:26:18 -0400 (Wed, 16 Oct 2024) EndedAt: 2024-10-16 18:30:54 -0400 (Wed, 16 Oct 2024) EllapsedTime: 276.9 seconds RetCode: 0 Status: OK PackageFile: dagLogo_1.42.0.tar.gz PackageFileSize: 3.112 MiB