Package: dagLogo Version: 1.42.0 Command: rm -rf dagLogo.buildbin-libdir && mkdir dagLogo.buildbin-libdir && /Users/biocbuild/BBS/utils/build-universal.sh dagLogo_1.42.0.tar.gz /Library/Frameworks/R.framework/Resources/bin/R dagLogo.buildbin-libdir StartedAt: 2024-10-18 18:04:18 -0400 (Fri, 18 Oct 2024) EndedAt: 2024-10-18 18:05:27 -0400 (Fri, 18 Oct 2024) EllapsedTime: 68.9 seconds RetCode: 0 Status: OK PackageFile: dagLogo_1.42.0.tgz PackageFileSize: 3.679 MiB