Package: dada2 Version: 1.32.0 Command: /Library/Frameworks/R.framework/Resources/bin/R CMD check --install=check:dada2.install-out.txt --library=/Library/Frameworks/R.framework/Resources/library --no-vignettes --timings dada2_1.32.0.tar.gz StartedAt: 2024-06-10 12:48:42 -0400 (Mon, 10 Jun 2024) EndedAt: 2024-06-10 12:57:01 -0400 (Mon, 10 Jun 2024) EllapsedTime: 499.2 seconds RetCode: 0 Status: WARNINGS CheckDir: dada2.Rcheck Warnings: 1