Package: daMA Version: 1.76.0 Command: /Library/Frameworks/R.framework/Resources/bin/R CMD build --keep-empty-dirs --no-resave-data daMA StartedAt: 2024-06-09 16:23:12 -0400 (Sun, 09 Jun 2024) EndedAt: 2024-06-09 16:23:15 -0400 (Sun, 09 Jun 2024) EllapsedTime: 2.3 seconds RetCode: 0 Status: OK PackageFile: daMA_1.76.0.tar.gz PackageFileSize: 4.026 MiB