Package: daMA Version: 1.76.0 Command: /home/biocbuild/R/R-beta-2024-04-15_r86425/bin/R CMD INSTALL daMA StartedAt: 2024-05-08 20:03:37 -0000 (Wed, 08 May 2024) EndedAt: 2024-05-08 20:04:03 -0000 (Wed, 08 May 2024) EllapsedTime: 26.1 seconds RetCode: 0 Status: OK