Package: daMA Version: 1.76.0 Command: rm -rf daMA.buildbin-libdir && mkdir daMA.buildbin-libdir && /Users/biocbuild/BBS/utils/build-universal.sh daMA_1.76.0.tar.gz /Library/Frameworks/R.framework/Resources/bin/R daMA.buildbin-libdir StartedAt: 2024-06-11 10:50:36 -0400 (Tue, 11 Jun 2024) EndedAt: 2024-06-11 10:50:42 -0400 (Tue, 11 Jun 2024) EllapsedTime: 6.8 seconds RetCode: 0 Status: OK PackageFile: daMA_1.76.0.tgz PackageFileSize: 4.058 MiB