Package: dStruct Version: 1.10.0 Command: /home/biocbuild/bbs-3.19-bioc/R/bin/R CMD build --keep-empty-dirs --no-resave-data dStruct StartedAt: 2024-10-16 18:17:40 -0400 (Wed, 16 Oct 2024) EndedAt: 2024-10-16 18:17:55 -0400 (Wed, 16 Oct 2024) EllapsedTime: 15.0 seconds RetCode: 0 Status: OK PackageFile: dStruct_1.10.0.tar.gz PackageFileSize: 557.4 KiB