Package: dStruct Version: 1.10.0 Command: /Library/Frameworks/R.framework/Resources/bin/R CMD INSTALL dStruct StartedAt: 2024-06-09 15:07:54 -0400 (Sun, 09 Jun 2024) EndedAt: 2024-06-09 15:08:13 -0400 (Sun, 09 Jun 2024) EllapsedTime: 19.6 seconds RetCode: 0 Status: OK