Package: dStruct Version: 1.10.0 Command: /Library/Frameworks/R.framework/Resources/bin/R CMD build --keep-empty-dirs --no-resave-data dStruct StartedAt: 2024-10-16 23:42:03 -0400 (Wed, 16 Oct 2024) EndedAt: 2024-10-16 23:42:23 -0400 (Wed, 16 Oct 2024) EllapsedTime: 19.4 seconds RetCode: 0 Status: OK PackageFile: dStruct_1.10.0.tar.gz PackageFileSize: 557.4 KiB