Package: cytoviewer Version: 1.4.0 Command: E:\biocbuild\bbs-3.19-bioc\R\bin\R.exe CMD check --no-multiarch --install=check:cytoviewer.install-out.txt --library=E:\biocbuild\bbs-3.19-bioc\R\library --no-vignettes --timings cytoviewer_1.4.0.tar.gz StartedAt: 2024-10-17 00:34:02 -0400 (Thu, 17 Oct 2024) EndedAt: 2024-10-17 00:40:20 -0400 (Thu, 17 Oct 2024) EllapsedTime: 377.9 seconds RetCode: 0 Status: OK CheckDir: cytoviewer.Rcheck Warnings: 0