Package: cytoviewer Version: 1.4.0 Command: /home/biocbuild/bbs-3.19-bioc/R/bin/R CMD INSTALL cytoviewer StartedAt: 2024-10-16 16:28:50 -0400 (Wed, 16 Oct 2024) EndedAt: 2024-10-16 16:29:35 -0400 (Wed, 16 Oct 2024) EllapsedTime: 44.8 seconds RetCode: 0 Status: OK