Package: cytoviewer Version: 1.4.0 Command: /Library/Frameworks/R.framework/Resources/bin/R CMD INSTALL cytoviewer StartedAt: 2024-10-16 16:17:56 -0400 (Wed, 16 Oct 2024) EndedAt: 2024-10-16 16:19:47 -0400 (Wed, 16 Oct 2024) EllapsedTime: 110.8 seconds RetCode: 0 Status: OK