Package: cytoviewer Version: 1.4.0 Command: rm -rf cytoviewer.buildbin-libdir && mkdir cytoviewer.buildbin-libdir && /Users/biocbuild/BBS/utils/build-universal.sh cytoviewer_1.4.0.tar.gz /Library/Frameworks/R.framework/Resources/bin/R cytoviewer.buildbin-libdir StartedAt: 2024-10-17 15:58:20 -0400 (Thu, 17 Oct 2024) EndedAt: 2024-10-17 16:00:20 -0400 (Thu, 17 Oct 2024) EllapsedTime: 119.9 seconds RetCode: 0 Status: OK PackageFile: cytoviewer_1.4.0.tgz PackageFileSize: 4.875 MiB