Package: cytoviewer Version: 1.4.0 Command: /Library/Frameworks/R.framework/Resources/bin/R CMD check --install=check:cytoviewer.install-out.txt --library=/Library/Frameworks/R.framework/Resources/library --no-vignettes --timings cytoviewer_1.4.0.tar.gz StartedAt: 2024-10-17 18:38:58 -0400 (Thu, 17 Oct 2024) EndedAt: 2024-10-17 18:45:27 -0400 (Thu, 17 Oct 2024) EllapsedTime: 389.1 seconds RetCode: 0 Status: OK CheckDir: cytoviewer.Rcheck Warnings: 0