Package: cytoviewer Version: 1.4.0 Command: rm -rf cytoviewer.buildbin-libdir && mkdir cytoviewer.buildbin-libdir && /Users/biocbuild/BBS/utils/build-universal.sh cytoviewer_1.4.0.tar.gz /Library/Frameworks/R.framework/Resources/bin/R cytoviewer.buildbin-libdir StartedAt: 2024-10-18 18:04:04 -0400 (Fri, 18 Oct 2024) EndedAt: 2024-10-18 18:05:12 -0400 (Fri, 18 Oct 2024) EllapsedTime: 67.5 seconds RetCode: 0 Status: OK PackageFile: cytoviewer_1.4.0.tgz PackageFileSize: 4.876 MiB