Package: cytomapper Version: 1.16.0 Command: /Library/Frameworks/R.framework/Resources/bin/R CMD check --install=check:cytomapper.install-out.txt --library=/Library/Frameworks/R.framework/Resources/library --no-vignettes --timings cytomapper_1.16.0.tar.gz StartedAt: 2024-10-17 03:43:19 -0400 (Thu, 17 Oct 2024) EndedAt: 2024-10-17 04:23:19 -0400 (Thu, 17 Oct 2024) EllapsedTime: 2400.3 seconds RetCode: None Status: TIMEOUT CheckDir: cytomapper.Rcheck Warnings: NA