Package: cytomapper Version: 1.16.0 Command: rm -rf cytomapper.buildbin-libdir && mkdir cytomapper.buildbin-libdir && /Users/biocbuild/BBS/utils/build-universal.sh cytomapper_1.16.0.tar.gz /Library/Frameworks/R.framework/Resources/bin/R cytomapper.buildbin-libdir StartedAt: 2024-06-10 00:13:57 -0400 (Mon, 10 Jun 2024) EndedAt: 2024-06-10 00:15:16 -0400 (Mon, 10 Jun 2024) EllapsedTime: 79.0 seconds RetCode: 0 Status: OK PackageFile: cytomapper_1.16.0.tgz PackageFileSize: 5.434 MiB