Package: cytolib Version: 2.16.0 Command: rm -rf cytolib.buildbin-libdir && mkdir cytolib.buildbin-libdir && E:\biocbuild\bbs-3.19-bioc\R\bin\R.exe CMD INSTALL --build --library=cytolib.buildbin-libdir cytolib_2.16.0.tar.gz StartedAt: 2024-10-17 07:37:51 -0400 (Thu, 17 Oct 2024) EndedAt: 2024-10-17 07:45:31 -0400 (Thu, 17 Oct 2024) EllapsedTime: 459.4 seconds RetCode: 0 Status: OK PackageFile: cytolib_2.16.0.zip PackageFileSize: 4.881 MiB