Package: cytolib Version: 2.16.0 Command: F:\biocbuild\bbs-3.19-bioc\R\bin\R.exe CMD check --no-multiarch --install=check:cytolib.install-out.txt --library=F:\biocbuild\bbs-3.19-bioc\R\library --no-vignettes --timings cytolib_2.16.0.tar.gz StartedAt: 2024-06-27 00:39:39 -0400 (Thu, 27 Jun 2024) EndedAt: 2024-06-27 00:41:45 -0400 (Thu, 27 Jun 2024) EllapsedTime: 125.7 seconds RetCode: 0 Status: WARNINGS CheckDir: cytolib.Rcheck Warnings: 3