Package: cytolib Version: 2.16.0 Command: rm -rf cytolib.buildbin-libdir && mkdir cytolib.buildbin-libdir && F:\biocbuild\bbs-3.19-bioc\R\bin\R.exe CMD INSTALL --build --library=cytolib.buildbin-libdir cytolib_2.16.0.tar.gz StartedAt: 2024-06-27 08:04:36 -0400 (Thu, 27 Jun 2024) EndedAt: 2024-06-27 08:09:02 -0400 (Thu, 27 Jun 2024) EllapsedTime: 266.6 seconds RetCode: 0 Status: OK PackageFile: cytolib_2.16.0.zip PackageFileSize: 4.881 MiB