Package: cytolib Version: 2.16.0 Command: /home/biocbuild/bbs-3.19-bioc/R/bin/R CMD build --keep-empty-dirs --no-resave-data cytolib StartedAt: 2024-10-16 18:03:14 -0400 (Wed, 16 Oct 2024) EndedAt: 2024-10-16 18:05:45 -0400 (Wed, 16 Oct 2024) EllapsedTime: 151.3 seconds RetCode: 0 Status: OK PackageFile: cytolib_2.16.0.tar.gz PackageFileSize: 5.783 MiB