Package: cytolib Version: 2.16.0 Command: /Library/Frameworks/R.framework/Resources/bin/R CMD INSTALL cytolib StartedAt: 2024-10-16 15:12:47 -0400 (Wed, 16 Oct 2024) EndedAt: 2024-10-16 15:17:08 -0400 (Wed, 16 Oct 2024) EllapsedTime: 260.9 seconds RetCode: 0 Status: OK