Package: cytolib Version: 2.16.0 Command: /Library/Frameworks/R.framework/Resources/bin/R CMD check --install=check:cytolib.install-out.txt --library=/Library/Frameworks/R.framework/Resources/library --no-vignettes --timings cytolib_2.16.0.tar.gz StartedAt: 2024-10-17 03:43:13 -0400 (Thu, 17 Oct 2024) EndedAt: 2024-10-17 03:43:58 -0400 (Thu, 17 Oct 2024) EllapsedTime: 45.0 seconds RetCode: 0 Status: WARNINGS CheckDir: cytolib.Rcheck Warnings: 2