Package: cytolib Version: 2.16.0 Command: /Library/Frameworks/R.framework/Resources/bin/R CMD check --install=check:cytolib.install-out.txt --library=/Library/Frameworks/R.framework/Resources/library --no-vignettes --timings cytolib_2.16.0.tar.gz StartedAt: 2024-06-10 12:43:06 -0400 (Mon, 10 Jun 2024) EndedAt: 2024-06-10 12:43:59 -0400 (Mon, 10 Jun 2024) EllapsedTime: 53.5 seconds RetCode: 0 Status: WARNINGS CheckDir: cytolib.Rcheck Warnings: 2