Package: cytolib Version: 2.16.0 Command: rm -rf cytolib.buildbin-libdir && mkdir cytolib.buildbin-libdir && /Users/biocbuild/BBS/utils/build-universal.sh cytolib_2.16.0.tar.gz /Library/Frameworks/R.framework/Resources/bin/R cytolib.buildbin-libdir StartedAt: 2024-06-11 10:49:40 -0400 (Tue, 11 Jun 2024) EndedAt: 2024-06-11 10:53:44 -0400 (Tue, 11 Jun 2024) EllapsedTime: 244.0 seconds RetCode: 0 Status: OK PackageFile: cytolib_2.16.0.tgz PackageFileSize: 9.693 MiB