Package: cytolib Version: 2.16.0 Command: /Library/Frameworks/R.framework/Resources/bin/R CMD INSTALL cytolib StartedAt: 2024-10-16 15:40:59 -0400 (Wed, 16 Oct 2024) EndedAt: 2024-10-16 15:43:17 -0400 (Wed, 16 Oct 2024) EllapsedTime: 137.7 seconds RetCode: 0 Status: OK