Package: cytolib Version: 2.16.0 Command: /Library/Frameworks/R.framework/Resources/bin/R CMD build --keep-empty-dirs --no-resave-data cytolib StartedAt: 2024-10-16 22:37:00 -0400 (Wed, 16 Oct 2024) EndedAt: 2024-10-16 22:39:18 -0400 (Wed, 16 Oct 2024) EllapsedTime: 138.9 seconds RetCode: 0 Status: OK PackageFile: cytolib_2.16.0.tar.gz PackageFileSize: 5.783 MiB