Package: cytolib Version: 2.16.0 Command: rm -rf cytolib.buildbin-libdir && mkdir cytolib.buildbin-libdir && /Users/biocbuild/BBS/utils/build-universal.sh cytolib_2.16.0.tar.gz /Library/Frameworks/R.framework/Resources/bin/R cytolib.buildbin-libdir StartedAt: 2024-10-18 18:03:22 -0400 (Fri, 18 Oct 2024) EndedAt: 2024-10-18 18:06:23 -0400 (Fri, 18 Oct 2024) EllapsedTime: 181.2 seconds RetCode: 0 Status: OK PackageFile: cytolib_2.16.0.tgz PackageFileSize: 9.693 MiB