Package: cytolib Version: 2.16.0 Maintainer: Mike Jiang MaintainerEmail: mike at ozette.ai git_url: https://git.bioconductor.org/packages/cytolib git_branch: RELEASE_3_19 git_last_commit: 939e51d git_last_commit_date: 2024-04-30 10:59:52 -0400 (Tue, 30 Apr 2024)