Package: cytofQC Version: 1.4.0 Command: E:\biocbuild\bbs-3.19-bioc\R\bin\R.exe CMD INSTALL cytofQC StartedAt: 2024-10-16 17:21:19 -0400 (Wed, 16 Oct 2024) EndedAt: 2024-10-16 17:22:06 -0400 (Wed, 16 Oct 2024) EllapsedTime: 46.7 seconds RetCode: 0 Status: OK