Package: cytofQC Version: 1.4.0 Command: E:\biocbuild\bbs-3.19-bioc\R\bin\R.exe CMD check --no-multiarch --install=check:cytofQC.install-out.txt --library=E:\biocbuild\bbs-3.19-bioc\R\library --no-vignettes --timings cytofQC_1.4.0.tar.gz StartedAt: 2024-10-17 00:31:33 -0400 (Thu, 17 Oct 2024) EndedAt: 2024-10-17 00:37:59 -0400 (Thu, 17 Oct 2024) EllapsedTime: 386.6 seconds RetCode: 0 Status: OK CheckDir: cytofQC.Rcheck Warnings: 0