Package: cytofQC Version: 1.4.0 Command: chmod a+r cytofQC -R && E:\biocbuild\bbs-3.19-bioc\R\bin\R.exe CMD build --keep-empty-dirs --no-resave-data cytofQC StartedAt: 2024-10-16 18:29:51 -0400 (Wed, 16 Oct 2024) EndedAt: 2024-10-16 18:32:35 -0400 (Wed, 16 Oct 2024) EllapsedTime: 163.4 seconds RetCode: 0 Status: OK PackageFile: cytofQC_1.4.0.tar.gz PackageFileSize: 1.249 MiB