Package: cytofQC Version: 1.4.0 Command: F:\biocbuild\bbs-3.19-bioc\R\bin\R.exe CMD check --no-multiarch --install=check:cytofQC.install-out.txt --library=F:\biocbuild\bbs-3.19-bioc\R\library --no-vignettes --timings cytofQC_1.4.0.tar.gz StartedAt: 2024-06-27 00:38:47 -0400 (Thu, 27 Jun 2024) EndedAt: 2024-06-27 00:45:28 -0400 (Thu, 27 Jun 2024) EllapsedTime: 400.6 seconds RetCode: 0 Status: OK CheckDir: cytofQC.Rcheck Warnings: 0